BEGIN:VCALENDAR
VERSION:2.0
PRODID:spatie/icalendar-generator
DESCRIPTION:Évènements de Sainte-Baume
X-WR-CALDESC:Évènements de Sainte-Baume
REFRESH-INTERVAL;VALUE=DURATION:PT1440M
X-PUBLISHED-TTL:PT1440M
BEGIN:VTIMEZONE
TZID:Europe/Paris
BEGIN:STANDARD
DTSTART:20251026T030000Z
TZOFFSETFROM:+0200
TZOFFSETTO:+0100
END:STANDARD
BEGIN:DAYLIGHT
DTSTART:20260329T020000Z
TZOFFSETFROM:+0100
TZOFFSETTO:+0200
END:DAYLIGHT
BEGIN:STANDARD
DTSTART:20261025T030000Z
TZOFFSETFROM:+0200
TZOFFSETTO:+0100
END:STANDARD
END:VTIMEZONE
BEGIN:VTIMEZONE
TZID:UTC
BEGIN:STANDARD
DTSTART:20250724T041455Z
TZOFFSETFROM:+0000
TZOFFSETTO:+0000
END:STANDARD
END:VTIMEZONE
BEGIN:VEVENT
UID:371-48
DTSTAMP:20260420T041455Z
SUMMARY:Rencontre de Marie-Madeleine – 2026
LOCATION:Hostellerie de la sainte-Baume 2200 route de nans CD 80 Plan-d\\'A
 ups-Sainte-Baume  83136
ORGANIZER;CN=Sanctuaire de la Sainte Baume:MAILTO:sanctuaire@saintebaume.or
 g
DTSTART;TZID=Europe/Paris:20260514T000000
DTEND;TZID=Europe/Paris:20260517T010000
X-ALT-DESC;FMTTYPE=TEXT/HTML:Rencontre de Marie-Madeleine 2026 ✨ La quest
 ion de la liberté 📍 Sanctuaire de la Sainte-Baume📅 Du jeudi 14 au d
 imanche 17 mai 2026 👥 Intervenants Claire de St Lager Rebecca Rethière
  Frère Paul-Dominique de Malet Frère Renaud Silly Père Sébastien Coudr
 oy Frère Dominique Barré Iris Lagoda Frère Patrick-Marie Bozo Martine G
 uillot 📖 Programme 🗓 Jeudi…
CATEGORIES:General
URL;VALUE=URI:https://www.saintebaume.org/mc-events/rencontre-de-marie-made
 leine-2026/
METHOD:PUBLISH
END:VEVENT
END:VCALENDAR